BEGIN:VCALENDAR
VERSION:2.0
PRODID:-//Fundacja PoMOC dla Płodności - wspieramy osoby niepłodne - ECPv6.15.11//NONSGML v1.0//EN
CALSCALE:GREGORIAN
METHOD:PUBLISH
X-ORIGINAL-URL:https://pomocdlaplodnosci.pl
X-WR-CALDESC:Wydarzenia dla Fundacja PoMOC dla Płodności - wspieramy osoby niepłodne
REFRESH-INTERVAL;VALUE=DURATION:PT1H
X-Robots-Tag:noindex
X-PUBLISHED-TTL:PT1H
BEGIN:VTIMEZONE
TZID:Europe/Warsaw
BEGIN:DAYLIGHT
TZOFFSETFROM:+0100
TZOFFSETTO:+0200
TZNAME:CEST
DTSTART:20240331T010000
END:DAYLIGHT
BEGIN:STANDARD
TZOFFSETFROM:+0200
TZOFFSETTO:+0100
TZNAME:CET
DTSTART:20241027T010000
END:STANDARD
BEGIN:DAYLIGHT
TZOFFSETFROM:+0100
TZOFFSETTO:+0200
TZNAME:CEST
DTSTART:20250330T010000
END:DAYLIGHT
BEGIN:STANDARD
TZOFFSETFROM:+0200
TZOFFSETTO:+0100
TZNAME:CET
DTSTART:20251026T010000
END:STANDARD
BEGIN:DAYLIGHT
TZOFFSETFROM:+0100
TZOFFSETTO:+0200
TZNAME:CEST
DTSTART:20260329T010000
END:DAYLIGHT
BEGIN:STANDARD
TZOFFSETFROM:+0200
TZOFFSETTO:+0100
TZNAME:CET
DTSTART:20261025T010000
END:STANDARD
END:VTIMEZONE
BEGIN:VEVENT
DTSTART;TZID=Europe/Warsaw:20251122T080000
DTEND;TZID=Europe/Warsaw:20251122T170000
DTSTAMP:20260423T002031
CREATED:20251116T065944Z
LAST-MODIFIED:20251116T085232Z
UID:3850-1763798400-1763830800@pomocdlaplodnosci.pl
SUMMARY:IV edycja konferencji „Płodność. Strefa Specjalistycznej Wiedzy” – bilety już w sprzedaży!
DESCRIPTION:Już 22 listopada 2025 r. w Arche Hotel Krakowska w Warszawie odbędzie się ogólnopolska konferencja medyczna „Płodność. Strefa Specjalistycznej Wiedzy” organizowana przez Fundację PoMOC dla Płodności. To wyjątkowa okazja: edukacja zdrowotna połączona jest z praktycznym wsparciem\, a program obejmuje wykłady\, panele i praktyczne strefy — wszystko w otwartej\, profesjonalnej atmosferze. \n\n\n\n\nUruchamiamy ostatnią pulę biletów w promocyjnej cenie – 29 zł\nDla wszystkich\, którzy w ostatnich dniach dołączyli do naszej społeczności i pytali o możliwość rejestracji – mamy dobrą wiadomość!  Otrzymujemy wiele pytań o późniejsze zapisy\, dlatego uruchamiamy ostatnią pulę biletów w promocyjnej cenie – 29 zł. \nZależy nam\, by jak najwięcej osób mogło skorzystać z tej wyjątkowej przestrzeni wiedzy\, rozmów i wsparcia\, jaką tworzymy wspólnie z ekspertami już 22 listopada w Warszawie podczas IV Ogólnopolskiej Konferencji Medycznej „Płodność. Strefa Specjalistycznej Wiedzy”. \nTo doskonały moment\, by dołączyć – czeka na Was dzień pełen rzetelnej wiedzy\, inspirujących spotkań i praktycznych wskazówek dotyczących zdrowia i płodności. \n\n\n\nBilety na konferencję zakupisz na stronie  https://pomocdlaplodnosci.pl/konferencja-plodnosc-strefa-specjalistycznej-wiedzy-2025/ \n\n\n\nZarejestruj się. Opłać bilet. Podaj swój adres e-mail\, a potwierdzenie uczestnictwa przyjdzie na Twoją skrzynkę mailową. Nie zwlekaj! Zarezerwuj sobie miejsce już teraz! \n\n\n\nDo kogo skierowana jest konferencja?\n\n\n\nKonferencja skierowana jest do szerokiego grona odbiorców: osób planujących lub zmagających się z problemami zajścia w ciążę\, pacjentów zainteresowanych tematem zdrowia prokreacyjnego\, a także specjalistów medycznych\, psychologów\, dietetyków\, fizjoterapeutów oraz studentów — czyli wszystkich\, którzy chcą poznawać specjalistyczną wiedzę\, unikać nierzetelnych informacji i działać świadomie. \n\n\n\nProgram konferencji\n\n\n\nW programie przewidziano: \n\n\n\n\nPrelekcje i dyskusje prowadzone przez najlepszych ekspertów w dziedzinie ginekologii\, endokrynologii\, andrologii\, psychologii\, dietetyki i fizjoterapii;\n\n\n\nDwie równoległe sale wykładowe dla większego wyboru tematów;\n\n\n\nStrefę Diagnostyczną umożliwiającą wykonanie badań (np. AMH\, PSA\, witaminy D\, analiza składu ciała);\n\n\n\nSalki do bezpośrednich rozmów z lekarzami i ekspertami;\n\n\n\nStrefę Partnerów – fundacji\, placówek medycznych\, producentów\, organizacji wspierających płodność;\n\n\n\nKomfortowe przerwy kawowe i możliwość odpoczynku w hotelowej restauracji.\n\n\n\n\nTematyka obejmuje: od rozpoznawania fake newsów w medycynie\, przez diagnostykę i leczenie niepłodności\, zaburzenia metaboliczne (insulinooporność\, cukrzyca\, otyłość)\, przez PCOS\, endometriozę i choroby autoimmunologiczne\, aż po nowoczesne metody wspomagania płodności (inseminacja\, in vitro\, dawstwo komórek)\, aspekty prawne\, żywienie i wsparcie psychologiczne. \n\n\n\nTo wydarzenie\, które łączy wiedzę naukową z realnym wsparciem i motywacją do dbania o swoje zdrowie — i to potwierdzają wyrazy uznania uczestników poprzednich edycji: \n\n\n\n„Nie spodziewałam się tego\, co zobaczyłam. Przekrój tematów olbrzymi. Możliwość rozmowy z lekarzem poza kliniką – cudowny pomysł… Dużo serca w tej Konferencji było czuć.” – Karolina\n„Wracaliśmy do domu jak na skrzydłach… nową nadzieją… wszystko na 6+!” – Anna i Paweł T.\n\n\n\nPrelegenci konferencji\n\n\n\nKogo zobaczysz i wysłuchasz na konferencji? 22. XI.25 wystąpią m.in.: \n\nDr hab. n. med. Michał Jakub Ciebiera – Dyrektor Warszawskiego Instytutu Zdrowia Kobiet; temat prelekcji: „Mięśniaki macicy a zaburzenia rozrodu”;\nMarcin Ostaszewski – Psychodietetyk w klinice leczenia niepłodności Kriobank; temat prelekcji: „Ciekawe przypadki z gabinetu dietetyka – case study”;\nDr Damian Warzecha – Ordynator Oddziału Ginekologiczno-Położniczego Warszawskiego Szpitala Południowego; temat prelekcji: „Założenia i możliwości programu refundacyjnego”;\nDr hab. n. med. Iwona Szymusik – Dyrektor Medyczny i Kierownik Ośrodka Medycznie Wspomaganej Prokreacji Kliniki Gameta Warszawa; temat prelekcji: „Niepowodzenia w in vitro – z jakich metod dodatkowych można skorzystać”\n Krzysztof Janowiec – Współwłaściciel i Dyrektor medyczny BARSKA Clinic; temat prelekcji: wkrótce;\nDr n. med. Jakub Wyroba – Dyrektor Medyczny w Małopolskim Instytucie Diagnostyki i Leczenia Niepłodności KrakOvi; temat prelekcji: „Czy istnieje „idealny” protokół stymulacji jajników? Jak AMH wpływa na decyzje terapeutyczne i szanse powodzenia”;\nDr n. biol. Patrycja Szachta – Dyrektor ds. naukowych w Centrum Medycznym Vitaimmun; temat prelekcji „Czy zdrowe jelita sprzyjają poczęciu? Wpływ mikrobioty na hormony i rozród”;\nDr hab. n. med. Aleksandra Jezela- Stanek – Specjalista genetyki klinicznej; temat prelekcji: wkrótce;\nDr Maja Herman – Prezeska Polskiego Towarzystwa Mediów Medycznych;temat prelekcji: „Jak nie tracić nadziei pomimo strat i niepowodzeń”\, udział w debacie: „Medycyna w erze fake newsów”;\nDr Damian Parol – Dietetyk i psychodietetyk; udział w debacie: „Medycyna w erze fake newsów”;\nDr n. med. Agnieszka Kuczyńska – Specjalista położnictwa i ginekologii. Specjalista endokrynologii ginekologicznej i rozrodczości; temat prelekcji: wkrótce.\nHab. n. med. Karolina Kędzierska-Kapuza – Diabetolog\, Nefrolog. Kierownik Centrum Diabetologii Państwowego Instytutu Medycznego MSWiA w Warszawie; udział w debacie: „Medycyna w erze fake newsów”;\nDr n. med. i n. o zdr. Szymon Suwała – Specjalista endokrynologii\, diabetologii; temat prelekcji: wkrótce.\nMgr inż. Monika Wasilewska – dietetyk/trener żywieniowy; temat prelekcji: „Najczęstsze przyczyny niepłodności podczas starań naturalnych oraz procedury in-vitro w gabinecie dietetycznym.”\nPatrycja Dykiel-Grześkowiak – Fizjoterapeutka uroginekologiczna PTUG\, twórczyni internetowa i edukatorka o zdrowiu intymnym kobiet;temat prelekcji: „Fizjoterapia uroginekologiczna jako element wspierający płodność i seksualność.”\ndr n. med. Joanna Jacko – Specjalistka w zakresie położnictwa i ginekologii oraz ginekologii onkologicznej. Eksperta ds. endometriozy.temat prelekcji: „Neverending story\, czyli jak poprawić wyniki leczenia niepłodności u pacjentek z endometriozą”.\ndr n. med. Piotr Rubisz – Specjalista ginekologii i położnictwa w Instytucie Endometriozy we Wrocławiu; temat prelekcji: „Niepłodność w endometriozie okiem operatora”.\ndr n. med. i n. o zdr. Kacper Packi – Prezes Fundacji „ALLERGEN SCIENCE- Fundacja na rzecz rozwoju nauki”\, Właściciel Laboratorium Medycznego Allergen Lab.temat prelekcji: „Pasożyty w cieniu endometriozy: immunologiczne paradoksy płodności”\ndr n. med. Justyna Komenda – Specjalista ginekologii i położnictwa Parens Kraków;temat prelekcji: „Poprawa jakości komórek jajowych”\nlek. Monika Działowska – lekarz pediatra;udział w debacie: „Medycyna w erze fake newsów”.\nlek. Zygmunt Grochal – lekarz dentysta Specjalista Zdrowia Publicznego;temat prelekcji: „Zdrowie jamy ustnej a płodność – więcej wspólnego niż myślisz”\nJoanna Caffo – Psycholożka\, psychoterapeutka i nauczycielka Psychologii Procesu\, twórczyni projektu rozwojowo-szkoleniowego Płodnik;temat prelekcji: „Jak przeczekać czekanie? O radzeniu sobie z tym trudnym momentem czekania na wynik testu ciążowego.”\n\nPo więcej informacji na temat konferencji\, prelegentów i tematów zapraszamy na stronę wydarzenia: https://pomocdlaplodnosci.pl/konferencja-plodnosc-strefa-specjalistycznej-wiedzy-2025/#o-wydarzeniu \nAktualnych informacji na temat konferencji szukaj na stronie: https://pomocdlaplodnosci.pl/konferencja-plodnosc-strefa-specjalistycznej-wiedzy-2025  \n\n\n\nOto\, jak wyglądało ubiegłoroczne wydarzenie – Płodność. Strefa Specjalistycznej Wiedzy w 2024 r. 👇 \n \n\n\n\n\n \n\n\n\n\nPodsumowanie\n\n\n\n\nCo? „Płodność. Strefa Specjalistycznej Wiedzy.” – konferencja łącząca rzetelną wiedzę medyczną i holistyczne wsparcie.\nKiedy? 22 listopada 2025 r.\, Arche Hotel Krakowska\, Warszawa.\nDla kogo? Osoby planujące ciążę\, pacjenci\, specjaliści i studenci – wszyscy\, którzy chcą poszerzyć kompetencje i zdobyć specjalistyczną wiedzę o zdrowiu i płodności.\nDlaczego warto? Profesjonalny\, wszechstronny program\, bezpośredni kontakt z ekspertami\, diagnostyka na miejscu\, strefy dyskusji i partnerów.\nCena? Cena biletu na konferencję to 49 zł. \n\n\n\n\n\n\n\n\n\n\n\n\n\n\n👉 KUPUJĘ BILET NA KONFERENCJĘ!👈
URL:https://pomocdlaplodnosci.pl/wydarzenie/iv-edycja-konferencji-plodnosc-strefa-specjalistycznej-wiedzy-bilety-juz-w-sprzedazy/
CATEGORIES:KATEGORIA WYDARZENIE
ATTACH;FMTTYPE=image/jpeg:https://pomocdlaplodnosci.pl/wp-content/uploads/2025/09/PSSW-grafika_mala.jpg
END:VEVENT
END:VCALENDAR